BEGIN:VCALENDAR
VERSION:2.0
PRODID:-//pretix//pretix.eu//
BEGIN:VTIMEZONE
TZID:Europe/Berlin
BEGIN:STANDARD
DTSTART:20001029T040000
RRULE:FREQ=YEARLY;BYDAY=-1SU;BYMONTH=10
TZNAME:CET
TZOFFSETFROM:+0200
TZOFFSETTO:+0100
END:STANDARD
BEGIN:DAYLIGHT
DTSTART:20000326T030000
RRULE:FREQ=YEARLY;BYDAY=-1SU;BYMONTH=3
TZNAME:CEST
TZOFFSETFROM:+0100
TZOFFSETTO:+0200
END:DAYLIGHT
END:VTIMEZONE
BEGIN:VEVENT
UID:pretix-cc-brunch-0@tickets.cityclubcafe.de
DTSTART;TZID=Europe/Berlin:20241003T110000
DTEND;TZID=Europe/Berlin:20241003T120000
DESCRIPTION:Tickets: https://tickets.cityclubcafe.de/brunch/\nEinlass: 03.1
 0.2024 11:00\nVeranstalter: city club augsburg
DTSTAMP:20260425T125941Z
LOCATION:City Club Augsburg\, Konrad-Adenauer-Allee 9\, 86150 Augsburg
SUMMARY:Geburtstagsbrunch
END:VEVENT
END:VCALENDAR
